BEGIN:VCALENDAR
VERSION:2.0
PRODID:SchoolNow
CALSCALE:GREGORIAN
BEGIN:VEVENT
UID:a617c280-b5b6-11f0-b73f-0a58a9feac02
DTSTAMP:20260206T210901Z
SUMMARY:CDD Budget Meeting - May 2026
LOCATION:Mirabella Clubhouse located at 14306 Romeo Blvd.\, Wimauma\, FL 33
 598
URL;VALUE=URI:https://www.mirabellacdd.com/calendar/8761587/cdd-budget-meet
 ing-may-2026
DTSTART:20260528T223000Z
DTEND:20260528T233000Z
END:VEVENT
END:VCALENDAR
