BEGIN:VCALENDAR
VERSION:2.0
PRODID:SchoolNow
CALSCALE:GREGORIAN
BEGIN:VEVENT
UID:72881844-838d-11f0-9967-02efef4a7877
DTSTAMP:20260206T220309Z
SUMMARY:CDD Board Meeting - Jun. 2026 - Cancelled
LOCATION:Mirabella Clubhouse located at 14306 Romeo Blvd.\, Wimauma\, FL 33
 598
URL;VALUE=URI:https://www.mirabellacdd.com/calendar/8551281/cdd-board-meeti
 ng-jun-2026
DTSTART:20260604T220000Z
DTEND:20260604T230000Z
END:VEVENT
END:VCALENDAR
