BEGIN:VCALENDAR
VERSION:2.0
PRODID:SchoolNow
CALSCALE:GREGORIAN
BEGIN:VEVENT
UID:6894ee34-838d-11f0-94a1-0e5d3462789d
DTSTAMP:20260402T175608Z
SUMMARY:CDD Board Meeting - Apr. 2026
LOCATION:Mirabella Clubhouse located at 14306 Romeo Blvd.\, Wimauma\, FL 33
 598
URL;VALUE=URI:https://www.mirabellacdd.com/calendar/8551280/cdd-board-meeti
 ng-apr-2026
DTSTART:20260409T220000Z
DTEND:20260409T230000Z
ATTACH;FILENAME=2026-04-09 Mirabella CDD Final Agenda Package.pdf;FMTTYPE=a
 pplication/pdf:https://campussuite-storage.s3.amazonaws.com/prod/1559263/6
 2cef7a6-1b05-11f0-84d0-0a58a9feac02/3086352/3726f74e-2ebd-11f1-a2ad-0a58a9
 feac02/file/2026-04-09 Mirabella CDD Final Agenda Package.pdf
END:VEVENT
END:VCALENDAR
