BEGIN:VCALENDAR
VERSION:2.0
PRODID:SchoolNow
CALSCALE:GREGORIAN
BEGIN:VEVENT
UID:513caf60-838d-11f0-9398-0e5d3462789d
DTSTAMP:20260129T162821Z
SUMMARY:CDD Board Meeting - Feb. 2025
LOCATION:Mirabella Clubhouse located at 14306 Romeo Blvd.\, Wimauma\, FL 33
 598
URL;VALUE=URI:https://www.mirabellacdd.com/calendar/8551278/cdd-board-meeti
 ng-feb-2025
DTSTART:20260205T230000Z
DTEND:20260206T000000Z
ATTACH;FILENAME=2026-02-05 Mirabella CDD Final Agenda Package.pdf;FMTTYPE=a
 pplication/pdf:https://campussuite-storage.s3.amazonaws.com/prod/1559263/6
 2cef7a6-1b05-11f0-84d0-0a58a9feac02/3065219/838ddea0-fd2f-11f0-af23-0a58a9
 feac02/file/2026-02-05 Mirabella CDD Final Agenda Package.pdf
END:VEVENT
END:VCALENDAR
