BEGIN:VCALENDAR
VERSION:2.0
PRODID:SchoolNow
CALSCALE:GREGORIAN
BEGIN:VEVENT
UID:48297a52-838d-11f0-baeb-0affc1bf85c7
DTSTAMP:20251126T162239Z
SUMMARY:CDD Board Meeting - Dec. 2025
LOCATION:Mirabella Clubhouse located at 14306 Romeo Blvd.\, Wimauma\, FL 33
 598
URL;VALUE=URI:https://www.mirabellacdd.com/calendar/8551277/cdd-board-meeti
 ng-dec-2025
DTSTART:20251204T230000Z
DTEND:20251205T000000Z
ATTACH;FILENAME=2025-12-04 Mirabella CDD Final Agenda Package.pdf;FMTTYPE=a
 pplication/pdf:https://campussuite-storage.s3.amazonaws.com/prod/1559263/6
 2cef7a6-1b05-11f0-84d0-0a58a9feac02/3044229/1d467742-cae4-11f0-bdef-02343c
 cddbd9/file/2025-12-04 Mirabella CDD Final Agenda Package.pdf
END:VEVENT
END:VCALENDAR
