BEGIN:VCALENDAR
VERSION:2.0
PRODID:SchoolNow
CALSCALE:GREGORIAN
BEGIN:VEVENT
UID:3dfff98e-838d-11f0-812e-0e8b14fcf377
DTSTAMP:20251016T210051Z
SUMMARY:CDD Board Meeting - Oct. 2025
LOCATION:Mirabella Clubhouse located at 14306 Romeo Blvd.\, Wimauma\, FL 33
 598
URL;VALUE=URI:https://www.mirabellacdd.com/calendar/8551276/cdd-board-meeti
 ng-oct-2025
DTSTART:20251023T220000Z
DTEND:20251023T230000Z
ATTACH;FILENAME=2025-10-23 Mirabella CDD Final Agenda Package.pdf;FMTTYPE=a
 pplication/pdf:https://campussuite-storage.s3.amazonaws.com/prod/1559263/6
 2cef7a6-1b05-11f0-84d0-0a58a9feac02/3022313/2f4c4682-aad3-11f0-b3c6-0afff8
 ccf667/file/2025-10-23 Mirabella CDD Final Agenda Package.pdf
END:VEVENT
END:VCALENDAR
