BEGIN:VCALENDAR
VERSION:2.0
PRODID:SchoolNow
CALSCALE:GREGORIAN
BEGIN:VEVENT
UID:e51c6f02-207a-11f0-899f-0ed256800e21
DTSTAMP:20250801T094458Z
SUMMARY:CDD Board Meeting - August 2025
LOCATION:Mirabella Clubhouse located at 14306 Romeo Blvd.\, Wimauma\, FL 33
 598
URL;VALUE=URI:https://www.mirabellacdd.com/calendar/7993652/cdd-board-meeti
 ng-august-2025
DTSTART:20250807T220000Z
DTEND:20250807T230000Z
ATTACH;FILENAME=2025-08-07 Mirabella CDD Agenda.pdf;FMTTYPE=application/pdf
 :https://campussuite-storage.s3.amazonaws.com/prod/1559263/62cef7a6-1b05-1
 1f0-84d0-0a58a9feac02/2987809/21210db6-6ebc-11f0-beb9-0eee7c8c1e25/file/20
 25-08-07 Mirabella CDD Agenda.pdf
ATTACH;FILENAME=2025-08-07 Mirabella CDD Agenda Package.pdf;FMTTYPE=applica
 tion/pdf:https://campussuite-storage.s3.amazonaws.com/prod/1559263/62cef7a
 6-1b05-11f0-84d0-0a58a9feac02/2987810/21213ce6-6ebc-11f0-b8b7-0eee7c8c1e25
 /file/2025-08-07 Mirabella CDD Agenda Package.pdf
END:VEVENT
END:VCALENDAR
